BEGIN:VCALENDAR
VERSION:2.0
PRODID:-//Squarespace Inc/Squarespace 6//v6//EN
BEGIN:VEVENT
UID:561a498ce4b0ae8c3b9c0aef@squarespace.com
DTSTAMP:20151011T114233Z
DTSTART:20151023T214500Z
DTEND:20151023T230000Z
SUMMARY:Kabbalat Shabbat
GEO:-37.872983;145.011017
LOCATION:Fosbery Avenue\, Caulfield North\, VIC\, 3161\, Australia
END:VEVENT
END:VCALENDAR
