BEGIN:VCALENDAR
VERSION:2.0
PRODID:-//Squarespace Inc/Squarespace 6//v6//EN
BEGIN:VEVENT
UID:5503daebe4b082eea4c391f8@squarespace.com
DTSTAMP:20150316T060558Z
DTSTART:20150320T220000Z
DTEND:20150320T224500Z
SUMMARY:Kabbalat Shabbat
GEO:-37.874217;145.019389
LOCATION:14 Airdrie Rd\, Caulfield North\, VIC\, 3161\, Australia
END:VEVENT
END:VCALENDAR
