BEGIN:VCALENDAR
VERSION:2.0
PRODID:-//Squarespace Inc/Squarespace 6//v6//EN
BEGIN:VEVENT
UID:555c8630e4b04e9c4f7801d0@squarespace.com
DTSTAMP:20150520T130514Z
DTSTART:20150522T215500Z
DTEND:20150522T224500Z
SUMMARY:Kabbalat Shabbat
GEO:-37.872983;145.011017
LOCATION:MHM\, Fosbery Ave\, Caulfield North\, VIC\, 3161\, Australia
END:VEVENT
END:VCALENDAR
