BEGIN:VCALENDAR
VERSION:2.0
PRODID:-//Squarespace Inc/Squarespace 6//v6//EN
BEGIN:VEVENT
UID:556304d7e4b0cc18bc69f9c4@squarespace.com
DTSTAMP:20150525T112429Z
DTSTART:20150529T211500Z
DTEND:20150529T215500Z
SUMMARY:New Songs - Workshop
GEO:-37.873402;145.010059
LOCATION:9 St Aubins Ave\, Caulfield North\, VIC\, 3161\, Australia
END:VEVENT
END:VCALENDAR
