BEGIN:VCALENDAR
VERSION:2.0
PRODID:-//Squarespace Inc/Squarespace 6//v6//EN
BEGIN:VEVENT
UID:553c5c2ce4b0bd2bbd3c5082@squarespace.com
DTSTAMP:20150502T090540Z
DTSTART:20150508T220000Z
DTEND:20150508T225000Z
SUMMARY:Kabbalat Shabbat
GEO:-37.872983;145.011017
LOCATION:Moishe House Melbourne\, Fosbery Ave\, Caulfield North\, VIC\, 316
 1\, Australia
END:VEVENT
END:VCALENDAR
