BEGIN:VCALENDAR
VERSION:2.0
PRODID:-//Squarespace Inc/Squarespace 6//v6//EN
BEGIN:VEVENT
UID:557fe8fee4b0677d22dbe37e@squarespace.com
DTSTAMP:20150616T091602Z
DTSTART:20150619T215500Z
DTEND:20150619T224500Z
SUMMARY:Kabbalat Shabbat
GEO:-37.872983;145.011017
LOCATION:MMH\, Fosbery Ave\, Caulfield North\, VIC\, 3161\, Australia
END:VEVENT
END:VCALENDAR
