BEGIN:VCALENDAR
VERSION:2.0
PRODID:-//Squarespace Inc/Squarespace 6//v6//EN
BEGIN:VEVENT
UID:559f12fee4b07a4915490c75@squarespace.com
DTSTAMP:20150710T004428Z
DTSTART:20150710T220000Z
DTEND:20150710T230000Z
SUMMARY:Kabbalat Shabbat
GEO:-37.854004;145.029214
LOCATION:335D Glenferrie Rd\, Malvern\, VIC\, 3144\, Australia
END:VEVENT
END:VCALENDAR
