BEGIN:VCALENDAR
VERSION:2.0
PRODID:-//Squarespace Inc/Squarespace 6//v6//EN
BEGIN:VEVENT
UID:55cc9c3ae4b0989acda988c6@squarespace.com
DTSTAMP:20150813T133712Z
DTSTART:20150821T214500Z
DTEND:20150821T230000Z
SUMMARY:Kabbalat Shabbat
GEO:-37.8952;145.020716
LOCATION:479 Hawthorn Rd\, Caulfield South\, VIC\, 3162\, Australia
END:VEVENT
END:VCALENDAR
