BEGIN:VCALENDAR
VERSION:2.0
PRODID:-//Squarespace Inc/Squarespace 6//v6//EN
BEGIN:VEVENT
UID:55cc9d9ce4b0ef8aac62c41d@squarespace.com
DTSTAMP:20150813T134042Z
DTSTART:20150828T214500Z
DTEND:20150828T230000Z
SUMMARY:Kabbalat Shabbat
GEO:-37.872983;145.011017
LOCATION:Fosbery Ave\, Caulfield North\, VIC\, 3161\, Australia
END:VEVENT
END:VCALENDAR
