BEGIN:VCALENDAR
VERSION:2.0
PRODID:-//Squarespace Inc/Squarespace 6//v6//EN
BEGIN:VEVENT
UID:55b588aee4b04e39fb6084d3@squarespace.com
DTSTAMP:20150730T032223Z
DTSTART:20150807T214500Z
DTEND:20150807T230000Z
SUMMARY:Kabbalat Shabbat
GEO:-37.885415;145.025638
LOCATION:28A Briggs St\, Caulfield\, VIC\, 3162\, Australia
END:VEVENT
END:VCALENDAR
