BEGIN:VCALENDAR
VERSION:2.0
PRODID:-//Squarespace Inc/Squarespace 6//v6//EN
BEGIN:VEVENT
UID:55db19a4e4b068214f717854@squarespace.com
DTSTAMP:20150913T021059Z
DTSTART:20150914T140000Z
DTEND:20150914T160000Z
SUMMARY:Rosh Hashanah Service
GEO:-37.883483;145.001291
LOCATION:Kadimah Hall\, 7 Selwyn Street\, Elsternwick
END:VEVENT
END:VCALENDAR
