BEGIN:VCALENDAR
VERSION:2.0
PRODID:-//Squarespace Inc/Squarespace 6//v6//EN
BEGIN:VEVENT
UID:55e308e2e4b00445ea1e0cf1@squarespace.com
DTSTAMP:20150830T134856Z
DTSTART:20150918T214500Z
DTEND:20150918T230000Z
SUMMARY:Kabbalat Shabbat
GEO:-37.874217;145.019389
LOCATION:14 Airdrie Rd\, Caulfield North\, VIC\, 3161\, Australia
END:VEVENT
END:VCALENDAR
