BEGIN:VCALENDAR
VERSION:2.0
PRODID:-//Squarespace Inc/Squarespace 6//v6//EN
BEGIN:VEVENT
UID:55e309dee4b04b03a45d7783@squarespace.com
DTSTAMP:20150830T135143Z
DTSTART:20150925T214500Z
DTEND:20150925T230000Z
SUMMARY:Kabbalat Shabbat
GEO:-37.872983;145.011017
LOCATION:Fosbery Ave\, Caulfield North\, VIC\, 3161\, Australia
END:VEVENT
END:VCALENDAR
