BEGIN:VCALENDAR
VERSION:2.0
PRODID:-//Squarespace Inc/Squarespace 6//v6//EN
BEGIN:VEVENT
UID:57b97a43c534a554d7b25685@squarespace.com
DTSTAMP:20160920T004814Z
DTSTART:20161012T143000Z
DTEND:20161012T163000Z
SUMMARY:Yom Kippur with Kehilat Kolenu
GEO:-37.883651;145.00103
LOCATION:Kadima Hall\, 7 Selwyn Street\, Elsternwick\, VIC\, 3185\, Austral
 ia
END:VEVENT
END:VCALENDAR
