BEGIN:VCALENDAR
VERSION:2.0
PRODID:-//Squarespace Inc/Squarespace 6//v6//EN
BEGIN:VEVENT
UID:57f30475414fb594a6deddfb@squarespace.com
DTSTAMP:20161004T012400Z
DTSTART:20161021T220000Z
DTEND:20161021T230000Z
SUMMARY:Kabbalat Shabbat
GEO:-37.880715;145.023392
LOCATION:281 Hawthorn Road\, Caulfield\, VIC\, 3162\, Australia
END:VEVENT
END:VCALENDAR
