BEGIN:VCALENDAR
VERSION:2.0
PRODID:-//Squarespace Inc/Squarespace 6//v6//EN
BEGIN:VEVENT
UID:57b978f2d1758e022c310376@squarespace.com
DTSTAMP:20160920T004713Z
DTSTART:20161003T140000Z
DTEND:20161003T153000Z
SUMMARY:Rosh Hashanah with Kehilat Kolenu
GEO:-37.883651;145.00103
LOCATION:Kadima Hall\, 7 Selwyn Street\, Elsternwick\, VIC\, 3185\, Austral
 ia
END:VEVENT
END:VCALENDAR
