BEGIN:VCALENDAR
VERSION:2.0
PRODID:-//Squarespace Inc/Squarespace 6//v6//EN
BEGIN:VEVENT
UID:57f4205af5e231a009d3ffa1@squarespace.com
DTSTAMP:20161004T213858Z
DTSTART:20161008T150000Z
DTEND:20161008T160000Z
SUMMARY:Tashlich
GEO:0.0;0.0
LOCATION:Corner Byron St and Broadway\, Elwood
END:VEVENT
END:VCALENDAR
