BEGIN:VCALENDAR
VERSION:2.0
PRODID:-//Squarespace Inc/Squarespace 6//v6//EN
BEGIN:VEVENT
UID:57f4205144024318a8865d57@squarespace.com
DTSTAMP:20161005T032410Z
DTSTART:20161009T183000Z
DTEND:20161009T193000Z
SUMMARY:Concert at Montefiore Homes
GEO:-37.852921;144.982579
LOCATION:Montefiore Plaza\,\, 619 St Kilda Road (Ground Floor)\, Melbourne\
 , VIC\, 3004\, Australia
END:VEVENT
END:VCALENDAR
