BEGIN:VCALENDAR
VERSION:2.0
PRODID:-//Squarespace Inc/Squarespace 6//v6//EN
BEGIN:VEVENT
UID:5805439f59cc6881c6fb4e74@squarespace.com
DTSTAMP:20161022T085940Z
DTSTART:20161125T230000Z
DTEND:20161126T000000Z
SUMMARY:Kabbalat Shabbat
GEO:-37.880715;145.023392
LOCATION:281 Hawthorn Road\, Caulfield\, VIC\, 3162\, Australia
END:VEVENT
END:VCALENDAR
