BEGIN:VCALENDAR
VERSION:2.0
PRODID:-//Squarespace Inc/Squarespace 6//v6//EN
BEGIN:VEVENT
UID:5805408b6b8f5b2f3ad781ab@squarespace.com
DTSTAMP:20161017T212739Z
DTSTART:20161104T220000Z
DTEND:20161104T230000Z
SUMMARY:Kabbalat Shabbat
GEO:-37.880715;145.023392
LOCATION:281 Hawthorn Road\, Caulfield\, VIC\, 3162\, Australia
END:VEVENT
END:VCALENDAR
