BEGIN:VCALENDAR
VERSION:2.0
PRODID:-//Squarespace Inc/Squarespace 6//v6//EN
BEGIN:VEVENT
UID:5823bf9fd2b857caa014dc1c@squarespace.com
DTSTAMP:20161110T003127Z
DTSTART:20161216T230000Z
DTEND:20161217T000000Z
SUMMARY:Last Kabbalat Shabbat for 2016
GEO:-37.880715;145.023392
LOCATION:281 Hawthorn Road\, Caulfield\, VIC\, 3162\, Australia
END:VEVENT
END:VCALENDAR
