BEGIN:VCALENDAR
VERSION:2.0
PRODID:-//Squarespace Inc/Squarespace 6//v6//EN
BEGIN:VEVENT
UID:56ae07d8b6aa605c0edf4ea3@squarespace.com
DTSTAMP:20160201T115713Z
DTSTART:20160219T224500Z
DTEND:20160220T000000Z
SUMMARY:Kabbalat Shabbat
END:VEVENT
END:VCALENDAR
