BEGIN:VCALENDAR
VERSION:2.0
PRODID:-//Squarespace Inc/Squarespace 6//v6//EN
BEGIN:VEVENT
UID:56af48443c44d836b9088e1c@squarespace.com
DTSTAMP:20160201T120200Z
DTSTART:20160226T224500Z
DTEND:20160227T000000Z
SUMMARY:Kabbalat Shabbat
GEO:-37.872983;145.011017
LOCATION:Fosbery Avenue\, Caulfield North\, VIC\, 3161\, Australia
END:VEVENT
END:VCALENDAR
