BEGIN:VCALENDAR
VERSION:2.0
PRODID:-//Squarespace Inc/Squarespace 6//v6//EN
BEGIN:VEVENT
UID:56eb952c3c44d854d96e92b1@squarespace.com
DTSTAMP:20160318T054310Z
DTSTART:20160325T220000Z
DTEND:20160325T230000Z
SUMMARY:Kabbalat Shabbat (Parshat Tzav)
GEO:-37.872983;145.011017
LOCATION:Moishe House\, Fosbery Avenue\, Caulfield North\, VIC\, 3161\, Aus
 tralia
END:VEVENT
END:VCALENDAR
