BEGIN:VCALENDAR
VERSION:2.0
PRODID:-//Squarespace Inc/Squarespace 6//v6//EN
BEGIN:VEVENT
UID:56eb93d501dbae856fdfb4b6@squarespace.com
DTSTAMP:20160325T023651Z
DTSTART:20160318T220000Z
DTEND:20160318T230000Z
SUMMARY:Kabbalat Shabbat (Parshat Vayikra)
GEO:-37.872983;145.011017
LOCATION:Moishe House\, Fosbery Avenue\, Caulfield North\, VIC\, 3161\, Aus
 tralia
END:VEVENT
END:VCALENDAR
