BEGIN:VCALENDAR
VERSION:2.0
PRODID:-//Squarespace Inc/Squarespace 6//v6//EN
BEGIN:VEVENT
UID:56f7858745bf216ba3b9dc08@squarespace.com
DTSTAMP:20160327T070444Z
DTSTART:20160328T010000Z
DTEND:20160328T020000Z
SUMMARY:J-Air Interviewing Jason & Adiel
END:VEVENT
END:VCALENDAR
