BEGIN:VCALENDAR
VERSION:2.0
PRODID:-//Squarespace Inc/Squarespace 6//v6//EN
BEGIN:VEVENT
UID:56f4a350b6aa6077cb1adf8a@squarespace.com
DTSTAMP:20160330T214532Z
DTSTART:20160401T220000Z
DTEND:20160401T230000Z
SUMMARY:Kabbalat Shabbat (Parshat Shmini)
GEO:-37.880816;145.023628
LOCATION:281 Hawthorn Road\, Caulfield\, VIC\, 3162\, Australia
END:VEVENT
END:VCALENDAR
