BEGIN:VCALENDAR
VERSION:2.0
PRODID:-//Squarespace Inc/Squarespace 6//v6//EN
BEGIN:VEVENT
UID:57007959c2ea518775391222@squarespace.com
DTSTAMP:20160415T044144Z
DTSTART:20160415T220000Z
DTEND:20160415T230000Z
SUMMARY:Kabbalat Shabbat ft. How to bring Humanism into your Seder
GEO:-37.874824;145.024658
LOCATION:NCJWA\, 131-133 Hawthorn Rd\, Caulfield
END:VEVENT
END:VCALENDAR
