BEGIN:VCALENDAR
VERSION:2.0
PRODID:-//Squarespace Inc/Squarespace 6//v6//EN
BEGIN:VEVENT
UID:5710725362cd94c2e914beb4@squarespace.com
DTSTAMP:20160415T044715Z
DTSTART:20160422T050000Z
DTEND:20160422T060000Z
SUMMARY:REMINDER NO KABBALAT SHABBAT TONIGHT
END:VEVENT
END:VCALENDAR
