BEGIN:VCALENDAR
VERSION:2.0
PRODID:-//Squarespace Inc/Squarespace 6//v6//EN
BEGIN:VEVENT
UID:571072c83c44d826583cffe2@squarespace.com
DTSTAMP:20160421T124011Z
DTSTART:20160423T140000Z
DTEND:20160423T160000Z
SUMMARY:Pesach Morning Gathering
GEO:-37.874824;145.024658
LOCATION:NCJWA\, 131-133 Hawthorn Road\, Caulfield North\, VIC\, 3161\, Aus
 tralia
END:VEVENT
END:VCALENDAR
