BEGIN:VCALENDAR
VERSION:2.0
PRODID:-//Squarespace Inc/Squarespace 6//v6//EN
BEGIN:VEVENT
UID:571de98cd51cd4f1ca2adbbc@squarespace.com
DTSTAMP:20160427T042632Z
DTSTART:20160429T220000Z
DTEND:20160429T230000Z
SUMMARY:Kabbalat Shabbat
GEO:-37.880816;145.023628
LOCATION:281 Hawthorn Road\, Caulfield\, VIC\, 3162\, Australia
END:VEVENT
END:VCALENDAR
