BEGIN:VCALENDAR
VERSION:2.0
PRODID:-//Squarespace Inc/Squarespace 6//v6//EN
BEGIN:VEVENT
UID:56f4a48b62cd94c30aff3421@squarespace.com
DTSTAMP:20160403T021149Z
DTSTART:20160408T220000Z
DTEND:20160408T230000Z
SUMMARY:Kabbalat Shabbat - Rosh Chodesh Nisan
GEO:-37.879312;145.026179
LOCATION:10 Devon Street\, Caulfield North\, VIC\, 3161\, Australia
END:VEVENT
END:VCALENDAR
