BEGIN:VCALENDAR
VERSION:2.0
PRODID:-//Squarespace Inc/Squarespace 6//v6//EN
BEGIN:VEVENT
UID:57341d9937013b2d379e85b4@squarespace.com
DTSTAMP:20160512T060952Z
DTSTART:20160513T220000Z
DTEND:20160513T230000Z
SUMMARY:Kabbalat Shabbat
GEO:-37.868837;145.042556
LOCATION:33 Kerferd Street\, Malvern East\, VIC\, 3145\, Australia
END:VEVENT
END:VCALENDAR
