BEGIN:VCALENDAR
VERSION:2.0
PRODID:-//Squarespace Inc/Squarespace 6//v6//EN
BEGIN:VEVENT
UID:5739077d3c44d8a18057e750@squarespace.com
DTSTAMP:20160515T233731Z
DTSTART:20160527T220000Z
DTEND:20160527T230000Z
SUMMARY:Kabbalat Shabbat
GEO:-37.880816;145.023628
LOCATION:281 Hawthorn Road\, Caulfield\, VIC\, 3162\, Australia
END:VEVENT
END:VCALENDAR
