BEGIN:VCALENDAR
VERSION:2.0
PRODID:-//Squarespace Inc/Squarespace 6//v6//EN
BEGIN:VEVENT
UID:573906d486db434ac62bf14d@squarespace.com
DTSTAMP:20160515T233352Z
DTSTART:20160520T220000Z
DTEND:20160520T230000Z
SUMMARY:Kabbalat Shabbat
GEO:-37.874875;145.024645
LOCATION:NCJWA\, 135 Hawthorn Road\, Caulfield North\, VIC\, 3161\, Austral
 ia
END:VEVENT
END:VCALENDAR
