BEGIN:VCALENDAR
VERSION:2.0
PRODID:-//Squarespace Inc/Squarespace 6//v6//EN
BEGIN:VEVENT
UID:57203f8560b5e9fe9735711f@squarespace.com
DTSTAMP:20160427T042850Z
DTSTART:20160506T220000Z
DTEND:20160506T230000Z
SUMMARY:Kabbalat Shabbat
GEO:-37.874875;145.024645
LOCATION:NCJWA\, 135 Hawthorn Road\, Caulfield North\, VIC\, 3161\, Austral
 ia
END:VEVENT
END:VCALENDAR
