BEGIN:VCALENDAR
VERSION:2.0
PRODID:-//Squarespace Inc/Squarespace 6//v6//EN
BEGIN:VEVENT
UID:57390982cf80a1b5beda53b5@squarespace.com
DTSTAMP:20160515T234702Z
DTSTART:20160610T220000Z
DTEND:20160610T230000Z
SUMMARY:Kabbalat Shabbat
GEO:-37.874875;145.024645
LOCATION:NCJWA\, 135 Hawthorn Road\, Caulfield North\, VIC\, 3161\, Austral
 ia
END:VEVENT
END:VCALENDAR
