BEGIN:VCALENDAR
VERSION:2.0
PRODID:-//Squarespace Inc/Squarespace 6//v6//EN
BEGIN:VEVENT
UID:57412f9eb09f956c84a1b79d@squarespace.com
DTSTAMP:20160522T040736Z
DTSTART:20160612T023000Z
DTEND:20160612T063000Z
SUMMARY:Shavuot Tikkun Leil
GEO:-37.882362;144.999902
LOCATION:1 Sinclair Street\, Elsternwick\, VIC\, 3185\, Australia
END:VEVENT
END:VCALENDAR
