BEGIN:VCALENDAR
VERSION:2.0
PRODID:-//Squarespace Inc/Squarespace 6//v6//EN
BEGIN:VEVENT
UID:575f86532fe131d58f8e9e2d@squarespace.com
DTSTAMP:20160614T042350Z
DTSTART:20160617T220000Z
DTEND:20160617T230000Z
SUMMARY:Kabbalat Shabbat
GEO:-37.870808;145.012344
LOCATION:92 Balaclava Road\, Caulfield North\, VIC\, 3161\, Australia
END:VEVENT
END:VCALENDAR
