BEGIN:VCALENDAR
VERSION:2.0
PRODID:-//Squarespace Inc/Squarespace 6//v6//EN
BEGIN:VEVENT
UID:575f86dff8508209d8013a02@squarespace.com
DTSTAMP:20160614T042636Z
DTSTART:20160624T220000Z
DTEND:20160624T230000Z
SUMMARY:Kabbalat Shabbat
GEO:-37.880816;145.023628
LOCATION:283 Hawthorn Road\, Caulfield\, VIC\, 3162\, Australia
END:VEVENT
END:VCALENDAR
