BEGIN:VCALENDAR
VERSION:2.0
PRODID:-//Squarespace Inc/Squarespace 6//v6//EN
BEGIN:VEVENT
UID:573908462fe131630fcc4a7c@squarespace.com
DTSTAMP:20160515T234233Z
DTSTART:20160603T220000Z
DTEND:20160603T230000Z
SUMMARY:Kabbalat Shabbat
GEO:-37.880816;145.023628
LOCATION:281 Hawthorn Road\, Caulfield\, VIC\, 3162\, Australia
END:VEVENT
END:VCALENDAR
