BEGIN:VCALENDAR
VERSION:2.0
PRODID:-//Squarespace Inc/Squarespace 6//v6//EN
BEGIN:VEVENT
UID:5770b5f26b8f5b047c05c716@squarespace.com
DTSTAMP:20160628T010224Z
DTSTART:20160701T220000Z
DTEND:20160701T230000Z
SUMMARY:Kabbalat Shabbat 
GEO:-37.865215;145.007903
LOCATION:11 Holroyd Avenue\, Saint Kilda East\, VIC\, 3183\, Australia
END:VEVENT
END:VCALENDAR
