BEGIN:VCALENDAR
VERSION:2.0
PRODID:-//Squarespace Inc/Squarespace 6//v6//EN
BEGIN:VEVENT
UID:5770b75a893fc0d33ce516e9@squarespace.com
DTSTAMP:20160713T031828Z
DTSTART:20160715T220000Z
DTEND:20160715T230000Z
SUMMARY:Kabbalat Shabbat
GEO:-37.880715;145.023392
LOCATION:281 Hawthorn Road\, Caulfield\, VIC\, 3162\, Australia
END:VEVENT
END:VCALENDAR
