BEGIN:VCALENDAR
VERSION:2.0
PRODID:-//Squarespace Inc/Squarespace 6//v6//EN
BEGIN:VEVENT
UID:5785b26f197aeabe62e5c0ee@squarespace.com
DTSTAMP:20160713T031917Z
DTSTART:20160722T220000Z
DTEND:20160722T230000Z
SUMMARY:Kabbalat Shabbat
GEO:-37.874323;145.009352
LOCATION:4 Albany Court\, Caulfield North\, VIC\, 3161\, Australia
END:VEVENT
END:VCALENDAR
