BEGIN:VCALENDAR
VERSION:2.0
PRODID:-//Squarespace Inc/Squarespace 6//v6//EN
BEGIN:VEVENT
UID:5785b359d482e95467ecf602@squarespace.com
DTSTAMP:20160713T032448Z
DTSTART:20160729T220000Z
DTEND:20160729T230000Z
SUMMARY:Kabbalat Shabat
GEO:-37.880895;145.023338
LOCATION:283 Hawthorn Road\, Caulfield\, VIC\, 3162\, Australia
END:VEVENT
END:VCALENDAR
