BEGIN:VCALENDAR
VERSION:2.0
PRODID:-//Squarespace Inc/Squarespace 6//v6//EN
BEGIN:VEVENT
UID:5770b702893fc0d33ce515ac@squarespace.com
DTSTAMP:20160627T051844Z
DTSTART:20160708T220000Z
DTEND:20160708T230000Z
SUMMARY:Kabbalat Shabbat
GEO:-37.865215;145.007903
LOCATION:11 Holroyd Avenue\, Saint Kilda East\, VIC\, 3183\, Australia
END:VEVENT
END:VCALENDAR
