BEGIN:VCALENDAR
VERSION:2.0
PRODID:-//Squarespace Inc/Squarespace 6//v6//EN
BEGIN:VEVENT
UID:57ad6da620099e7018aea711@squarespace.com
DTSTAMP:20160812T063440Z
DTSTART:20160819T220000Z
DTEND:20160819T230000Z
SUMMARY:Kabbalat Shabbat
GEO:-37.880895;145.023338
LOCATION:283 Hawthorn Road\, Caulfield\, VIC\, 3162\, Australia
END:VEVENT
END:VCALENDAR
