BEGIN:VCALENDAR
VERSION:2.0
PRODID:-//Squarespace Inc/Squarespace 6//v6//EN
BEGIN:VEVENT
UID:57b97acd725e253599ff7f97@squarespace.com
DTSTAMP:20160821T100322Z
DTSTART:20160902T220000Z
DTEND:20160902T230000Z
SUMMARY:Kabbalat Shabbat with Kehilat Kolenu
GEO:-37.880715;145.023392
LOCATION:281 Hawthorn Road\, Caulfield\, VIC\, 3162\, Australia
END:VEVENT
END:VCALENDAR
