BEGIN:VCALENDAR
VERSION:2.0
PRODID:-//Squarespace Inc/Squarespace 6//v6//EN
BEGIN:VEVENT
UID:57a1a515ebbd1a60b5e726bf@squarespace.com
DTSTAMP:20160821T095842Z
DTSTART:20160805T214500Z
DTEND:20160805T224500Z
SUMMARY:Kabbalat Shabbat
GEO:-37.880895;145.023338
LOCATION:283 Hawthorn Road\, Caulfield\, VIC\, 3162\, Australia
END:VEVENT
END:VCALENDAR
