BEGIN:VCALENDAR
VERSION:2.0
PRODID:-//Squarespace Inc/Squarespace 6//v6//EN
BEGIN:VEVENT
UID:587ff70fd482e9bfa5a387ab@squarespace.com
DTSTAMP:20170118T231635Z
DTSTART:20170203T230000Z
DTEND:20170204T000000Z
SUMMARY:Kabbalat Shabbat
GEO:-37.880715;145.023392
LOCATION:281 Hawthorn Road\, Caulfield\, VIC\, 3162\, Australia
END:VEVENT
END:VCALENDAR
